BEGIN:VCALENDAR
VERSION:2.0
PRODID:-//Joyful Harmony Unlimited - ECPv6.15.20//NONSGML v1.0//EN
CALSCALE:GREGORIAN
METHOD:PUBLISH
X-ORIGINAL-URL:https://joyfulharmony.org
X-WR-CALDESC:Events for Joyful Harmony Unlimited
REFRESH-INTERVAL;VALUE=DURATION:PT1H
X-Robots-Tag:noindex
X-PUBLISHED-TTL:PT1H
BEGIN:VTIMEZONE
TZID:America/Los_Angeles
BEGIN:DAYLIGHT
TZOFFSETFROM:-0800
TZOFFSETTO:-0700
TZNAME:PDT
DTSTART:20220313T100000
END:DAYLIGHT
BEGIN:STANDARD
TZOFFSETFROM:-0700
TZOFFSETTO:-0800
TZNAME:PST
DTSTART:20221106T090000
END:STANDARD
BEGIN:DAYLIGHT
TZOFFSETFROM:-0800
TZOFFSETTO:-0700
TZNAME:PDT
DTSTART:20230312T100000
END:DAYLIGHT
BEGIN:STANDARD
TZOFFSETFROM:-0700
TZOFFSETTO:-0800
TZNAME:PST
DTSTART:20231105T090000
END:STANDARD
BEGIN:DAYLIGHT
TZOFFSETFROM:-0800
TZOFFSETTO:-0700
TZNAME:PDT
DTSTART:20240310T100000
END:DAYLIGHT
BEGIN:STANDARD
TZOFFSETFROM:-0700
TZOFFSETTO:-0800
TZNAME:PST
DTSTART:20241103T090000
END:STANDARD
END:VTIMEZONE
BEGIN:VEVENT
DTSTART;TZID=America/Los_Angeles:20230522T163000
DTEND;TZID=America/Los_Angeles:20230522T180000
DTSTAMP:20260420T221145
CREATED:20230429T210431Z
LAST-MODIFIED:20230429T210432Z
UID:8954-1684773000-1684778400@joyfulharmony.org
SUMMARY:SimplyViolinz Rehearsal
DESCRIPTION:SimplyViolinz practice for an all-student concert. This activity is not open to the public.  Contact for special permission to listen to the practice: cassandra@joyfulharmony.org
URL:https://joyfulharmony.org/event/simplyviolinz-rehearsal-3/
LOCATION:Sequim Harmony Center\, 223 Hudon Rd\, Sequim\, WA\, 98382\, United States
CATEGORIES:MISSION PARTNER,MUSIC
ATTACH;FMTTYPE=image/webp:https://joyfulharmony.org/wp-content/uploads/2022/06/violin-finger-positions-e1640129936665.webp
ORGANIZER;CN="Joyful Harmony of Sequim":MAILTO:cassandra@joyfulharmony.org
END:VEVENT
END:VCALENDAR