BEGIN:VCALENDAR
VERSION:2.0
PRODID:-//Joyful Harmony Unlimited - ECPv6.15.20//NONSGML v1.0//EN
CALSCALE:GREGORIAN
METHOD:PUBLISH
X-ORIGINAL-URL:https://joyfulharmony.org
X-WR-CALDESC:Events for Joyful Harmony Unlimited
REFRESH-INTERVAL;VALUE=DURATION:PT1H
X-Robots-Tag:noindex
X-PUBLISHED-TTL:PT1H
BEGIN:VTIMEZONE
TZID:America/Los_Angeles
BEGIN:DAYLIGHT
TZOFFSETFROM:-0800
TZOFFSETTO:-0700
TZNAME:PDT
DTSTART:20220313T100000
END:DAYLIGHT
BEGIN:STANDARD
TZOFFSETFROM:-0700
TZOFFSETTO:-0800
TZNAME:PST
DTSTART:20221106T090000
END:STANDARD
BEGIN:DAYLIGHT
TZOFFSETFROM:-0800
TZOFFSETTO:-0700
TZNAME:PDT
DTSTART:20230312T100000
END:DAYLIGHT
BEGIN:STANDARD
TZOFFSETFROM:-0700
TZOFFSETTO:-0800
TZNAME:PST
DTSTART:20231105T090000
END:STANDARD
BEGIN:DAYLIGHT
TZOFFSETFROM:-0800
TZOFFSETTO:-0700
TZNAME:PDT
DTSTART:20240310T100000
END:DAYLIGHT
BEGIN:STANDARD
TZOFFSETFROM:-0700
TZOFFSETTO:-0800
TZNAME:PST
DTSTART:20241103T090000
END:STANDARD
END:VTIMEZONE
BEGIN:VEVENT
DTSTART;TZID=America/Los_Angeles:20230527T150000
DTEND;TZID=America/Los_Angeles:20230527T170000
DTSTAMP:20260420T235208
CREATED:20230123T234859Z
LAST-MODIFIED:20230418T013439Z
UID:8505-1685199600-1685206800@joyfulharmony.org
SUMMARY:Art Afternoon/Bauble Vessels
DESCRIPTION:Art Afternoon:  This week’s project: Bauble Vessels \nIt’s time to decorate a jar\, vase\, or pot. Bring old Jewelry\, beads\, sequins\, and random lovelies.  Imagine a pretty pencil cup\, colorful candle holder\, or presenting a gift inside one of these dressed-up vessels . . . and let’s get started! \nCreating and collecting mandalas is a transformative practice that is intended to restore inner peace and wisdom within.   Join us to learn basic techniques to express yourself. \nSome materials will be provided.  We encourage you to bring: \n\nA container to decorate\nPretty things to decorate it\nHealthy snacks or baked goods.\nSmiles\n\nThis activity is free/donations are joyfully accepted.  RSVP is required. \nRSVP for this event are closed.  You can RSVP for space on the waiting list to be contacted if a seat opens up. \n 
URL:https://joyfulharmony.org/event/art-afternoon-3-2-2-3-2-2-2/
LOCATION:Sequim Harmony Center\, 223 Hudon Rd\, Sequim\, WA\, 98382\, United States
CATEGORIES:ART,Art Afternoon
ATTACH;FMTTYPE=image/jpeg:https://joyfulharmony.org/wp-content/uploads/2023/01/bauble-jars.jpg
ORGANIZER;CN="Joyful Harmony of Sequim":MAILTO:cassandra@joyfulharmony.org
END:VEVENT
END:VCALENDAR