BEGIN:VCALENDAR
VERSION:2.0
PRODID:-//Joyful Harmony Unlimited - ECPv6.15.20//NONSGML v1.0//EN
CALSCALE:GREGORIAN
METHOD:PUBLISH
X-ORIGINAL-URL:https://joyfulharmony.org
X-WR-CALDESC:Events for Joyful Harmony Unlimited
REFRESH-INTERVAL;VALUE=DURATION:PT1H
X-Robots-Tag:noindex
X-PUBLISHED-TTL:PT1H
BEGIN:VTIMEZONE
TZID:America/Los_Angeles
BEGIN:DAYLIGHT
TZOFFSETFROM:-0800
TZOFFSETTO:-0700
TZNAME:PDT
DTSTART:20230312T100000
END:DAYLIGHT
BEGIN:STANDARD
TZOFFSETFROM:-0700
TZOFFSETTO:-0800
TZNAME:PST
DTSTART:20231105T090000
END:STANDARD
BEGIN:DAYLIGHT
TZOFFSETFROM:-0800
TZOFFSETTO:-0700
TZNAME:PDT
DTSTART:20240310T100000
END:DAYLIGHT
BEGIN:STANDARD
TZOFFSETFROM:-0700
TZOFFSETTO:-0800
TZNAME:PST
DTSTART:20241103T090000
END:STANDARD
BEGIN:DAYLIGHT
TZOFFSETFROM:-0800
TZOFFSETTO:-0700
TZNAME:PDT
DTSTART:20250309T100000
END:DAYLIGHT
BEGIN:STANDARD
TZOFFSETFROM:-0700
TZOFFSETTO:-0800
TZNAME:PST
DTSTART:20251102T090000
END:STANDARD
END:VTIMEZONE
BEGIN:VEVENT
DTSTART;TZID=America/Los_Angeles:20241018T180000
DTEND;TZID=America/Los_Angeles:20241018T210000
DTSTAMP:20260420T021244
CREATED:20240924T010240Z
LAST-MODIFIED:20241010T172708Z
UID:9014-1729274400-1729285200@joyfulharmony.org
SUMMARY:Oakland Movie Night
DESCRIPTION:Join us for the Oscar winning movie\, Coda. \nSynopsis:\nAs a CODA (Child of Deaf Adults) Ruby is the only hearing person in her deaf family. When the family’s fishing business is threatened\, Ruby finds herself torn between pursuing her passion at Berklee College of Music and her fear of abandoning her parents. \nWatch while munching on popcorn and pizza.  Be sure to indicate your choice of pizza.
URL:https://joyfulharmony.org/event/oakland-movie-night/
LOCATION:Oakland Harmony Center\, 565 Bellevue #2408\, Oakland\, CA\, 94610\, United States
CATEGORIES:Movies That Matter
ATTACH;FMTTYPE=image/jpeg:https://joyfulharmony.org/wp-content/uploads/2024/09/Coda_poster.jpeg
ORGANIZER;CN="Joyful Harmony of Oakland":MAILTO:daniel@joyfulharmony.org
END:VEVENT
END:VCALENDAR